BEGIN:VCALENDAR
VERSION:2.0
PRODID:-//Compass Beauty - ECPv6.15.20//NONSGML v1.0//EN
CALSCALE:GREGORIAN
METHOD:PUBLISH
X-WR-CALNAME:Compass Beauty
X-ORIGINAL-URL:https://www.compass-beauty.com
X-WR-CALDESC:Events for Compass Beauty
REFRESH-INTERVAL;VALUE=DURATION:PT1H
X-Robots-Tag:noindex
X-PUBLISHED-TTL:PT1H
BEGIN:VTIMEZONE
TZID:America/New_York
BEGIN:DAYLIGHT
TZOFFSETFROM:-0500
TZOFFSETTO:-0400
TZNAME:EDT
DTSTART:20250309T070000
END:DAYLIGHT
BEGIN:STANDARD
TZOFFSETFROM:-0400
TZOFFSETTO:-0500
TZNAME:EST
DTSTART:20251102T060000
END:STANDARD
BEGIN:DAYLIGHT
TZOFFSETFROM:-0500
TZOFFSETTO:-0400
TZNAME:EDT
DTSTART:20260308T070000
END:DAYLIGHT
BEGIN:STANDARD
TZOFFSETFROM:-0400
TZOFFSETTO:-0500
TZNAME:EST
DTSTART:20261101T060000
END:STANDARD
BEGIN:DAYLIGHT
TZOFFSETFROM:-0500
TZOFFSETTO:-0400
TZNAME:EDT
DTSTART:20270314T070000
END:DAYLIGHT
BEGIN:STANDARD
TZOFFSETFROM:-0400
TZOFFSETTO:-0500
TZNAME:EST
DTSTART:20271107T060000
END:STANDARD
END:VTIMEZONE
BEGIN:VEVENT
DTSTART;TZID=America/New_York:20260131T110000
DTEND;TZID=America/New_York:20260131T130000
DTSTAMP:20260419T131722
CREATED:20251227T224646Z
LAST-MODIFIED:20251227T224646Z
UID:664-1769857200-1769864400@www.compass-beauty.com
SUMMARY:Perfume Making Workshop
DESCRIPTION:Tickets coming soon!
URL:https://www.compass-beauty.com/event/perfume-making-workshop/
LOCATION:1237 Hancock Street\, Quincy\, MA\, 1237 Hancock Street\, Quincy\, MA\, 02169\, United States
END:VEVENT
BEGIN:VEVENT
DTSTART;TZID=America/New_York:20260120T180000
DTEND;TZID=America/New_York:20260120T200000
DTSTAMP:20260419T131722
CREATED:20251227T223043Z
LAST-MODIFIED:20251227T223043Z
UID:659-1768932000-1768939200@www.compass-beauty.com
SUMMARY:Chunky Knit Blanket Party
DESCRIPTION:
URL:https://www.compass-beauty.com/event/chunky-blanket-making/
LOCATION:1237 Hancock Street\, Quincy\, MA\, 1237 Hancock Street\, Quincy\, MA\, 02169\, United States
ORGANIZER;CN="South Shore Blanket Parties":MAILTO:southshoreblankets@gmail.com
END:VEVENT
BEGIN:VEVENT
DTSTART;TZID=America/New_York:20260115T180000
DTEND;TZID=America/New_York:20260115T200000
DTSTAMP:20260419T131722
CREATED:20251227T224222Z
LAST-MODIFIED:20251227T224222Z
UID:662-1768500000-1768507200@www.compass-beauty.com
SUMMARY:Vision Board Workshop
DESCRIPTION:
URL:https://www.compass-beauty.com/event/vision-board-workshop/
LOCATION:1237 Hancock Street\, Quincy\, MA\, 1237 Hancock Street\, Quincy\, MA\, 02169\, United States
ORGANIZER;CN="Two Trunks permanent Jewelry":MAILTO:twotrunksjewelry@gmail.com
END:VEVENT
END:VCALENDAR